BEGIN:VCALENDAR
VERSION:2.0
PRODID:-//Hunters Square HOA - ECPv6.14.2//NONSGML v1.0//EN
CALSCALE:GREGORIAN
METHOD:PUBLISH
X-WR-CALNAME:Hunters Square HOA
X-ORIGINAL-URL:https://hunterssquarehoa.com
X-WR-CALDESC:Events for Hunters Square HOA
REFRESH-INTERVAL;VALUE=DURATION:PT1H
X-Robots-Tag:noindex
X-PUBLISHED-TTL:PT1H
BEGIN:VTIMEZONE
TZID:America/New_York
BEGIN:DAYLIGHT
TZOFFSETFROM:-0500
TZOFFSETTO:-0400
TZNAME:EDT
DTSTART:20250309T070000
END:DAYLIGHT
BEGIN:STANDARD
TZOFFSETFROM:-0400
TZOFFSETTO:-0500
TZNAME:EST
DTSTART:20251102T060000
END:STANDARD
END:VTIMEZONE
BEGIN:VEVENT
DTSTART;VALUE=DATE:20250916
DTEND;VALUE=DATE:20250917
DTSTAMP:20260424T213134
CREATED:20250721T180000Z
LAST-MODIFIED:20250721T180000Z
UID:1283-1757980800-1758067199@hunterssquarehoa.com
SUMMARY:Board Meeting
DESCRIPTION:Meeting dates are subject to change\, please check with Taft Management for meeting location and information.
URL:https://hunterssquarehoa.com/event/board-meeting-2/
END:VEVENT
BEGIN:VEVENT
DTSTART;VALUE=DATE:20250819
DTEND;VALUE=DATE:20250820
DTSTAMP:20260424T213134
CREATED:20250721T175906Z
LAST-MODIFIED:20250721T175906Z
UID:1281-1755561600-1755647999@hunterssquarehoa.com
SUMMARY:Board Meeting
DESCRIPTION:Meeting dates are subject to change\, please check with Taft Management for meeting location and information.
URL:https://hunterssquarehoa.com/event/board-meeting/
END:VEVENT
BEGIN:VEVENT
DTSTART;VALUE=DATE:20250715
DTEND;VALUE=DATE:20250716
DTSTAMP:20260424T213134
CREATED:20250721T180133Z
LAST-MODIFIED:20250721T180133Z
UID:1291-1752537600-1752623999@hunterssquarehoa.com
SUMMARY:Board Meeting
DESCRIPTION:Meeting dates are subject to change\, please check with Taft Management for meeting location and information.
URL:https://hunterssquarehoa.com/event/board-meeting-5/
END:VEVENT
BEGIN:VEVENT
DTSTART;VALUE=DATE:20250617
DTEND;VALUE=DATE:20250618
DTSTAMP:20260424T213134
CREATED:20250721T180239Z
LAST-MODIFIED:20250721T180239Z
UID:1293-1750118400-1750204799@hunterssquarehoa.com
SUMMARY:Board Meeting
DESCRIPTION:Meeting dates are subject to change\, please check with Taft Management for meeting location and information.
URL:https://hunterssquarehoa.com/event/board-meeting-6/
END:VEVENT
END:VCALENDAR